BEGIN:VCALENDAR
VERSION:2.0
PRODID:-//VDC Alumni Association - ECPv6.15.20//NONSGML v1.0//EN
CALSCALE:GREGORIAN
METHOD:PUBLISH
X-ORIGINAL-URL:https://vdcalumni.com
X-WR-CALDESC:Events for VDC Alumni Association
REFRESH-INTERVAL;VALUE=DURATION:PT1H
X-Robots-Tag:noindex
X-PUBLISHED-TTL:PT1H
BEGIN:VTIMEZONE
TZID:Asia/Kolkata
BEGIN:STANDARD
TZOFFSETFROM:+0530
TZOFFSETTO:+0530
TZNAME:IST
DTSTART:20240101T000000
END:STANDARD
END:VTIMEZONE
BEGIN:VEVENT
DTSTART;TZID=Asia/Kolkata:20250615T090000
DTEND;TZID=Asia/Kolkata:20250615T120000
DTSTAMP:20260423T221819
CREATED:20250810T102904Z
LAST-MODIFIED:20250810T102904Z
UID:79-1749978000-1749988800@vdcalumni.com
SUMMARY:Annual Alumni Meet
DESCRIPTION:A day filled with nostalgic campus tours\, cultural performances\, networking sessions\, and a gala dinner under the stars.
URL:https://vdcalumni.com/event/annual-alumni-meet/
CATEGORIES:Past Events
END:VEVENT
END:VCALENDAR